BEGIN:VCALENDAR
VERSION:2.0
CALSCALE:GREGORIAN
PRODID:adamgibbons/ics
METHOD:PUBLISH
X-PUBLISHED-TTL:PT1H
BEGIN:VEVENT
UID:96@localhost
SUMMARY:Monday Dinner
DTSTAMP:20260422T103448Z
DTSTART:20260428T003000Z
DTEND:20260428T023000Z
DESCRIPTION:Monday Dinner is an experiment in common life\, a way to gather
	 weekly\, to find a\nplace of encounter for like-minded radicals. We draw 
	inspiration from the latin\namerican cocina popular\, the european anarchi
	st canteen tradition\,  the\nPanther’s free breakfast program\, digger bak
	eries\, social centers across north\namerica\, and the homes of our friend
	s. Come ready to eat\, share updates on local\nprojects and build connecti
	ons with one another.\n\nWe ask that those in attendance bring a few dolla
	rs to contribute so that cooks\ncan be reimbursed. However the meal is pro
	vided at a “free price\,” meaning\ndonations are in no way required in ord
	er to partake.
URL:https://cal.mossoakcommons.diy/event/sunday-dinner-12
LOCATION:Moss Oak Commons - 1905 Alliance Rd\, Arcata\, CA
STATUS:CONFIRMED
CATEGORIES:
X-ALT-DESC;FMTTYPE=text/html:<p>Monday Dinner is an experiment in common li
	fe, a way to gather weekly, to find a place of encounter for like-minded r
	adicals. We draw inspiration from the latin american <em>cocina popular, <
	/em>the european anarchist <em>canteen </em>tradition, <em>&nbsp;</em>the 
	Panther’s <em>free breakfast program</em>, <em>digger </em>bakeries, socia
	l centers across north america, and the homes<em>&nbsp;</em>of<em>&nbsp;</
	em>our friends<em>.</em> Come ready to eat, share updates on local project
	s and build connections with one another.</p><p>We ask that those in atten
	dance bring a few dollars to contribute so that cooks can be reimbursed. H
	owever the meal is provided at a “free price,” meaning donations are in no
	 way required in order to partake.</p>
BEGIN:VALARM
ACTION:DISPLAY
DESCRIPTION:Monday Dinner
TRIGGER:-PT1H
END:VALARM
END:VEVENT
END:VCALENDAR
